BEGIN:VCALENDAR
PRODID:-//kirchenweb.ch gmbh//veranstaltungsausgabe v2.0//DE
VERSION:2.0
METHOD:PUBLISH
BEGIN:VEVENT
DTSTART:20211113T083000Z
DTEND:20211113T153000Z
LOCATION:im Saal des Kirchgemeindehauses\, Kirchgässli 2\, 3210 Kerzers
TRANSP:OPAQUE
SEQUENCE:0
UID:38395-veranstaltung@kirchenregion-laupen.ch
DTSTAMP:20211101T113108Z
DESCRIPTION:Tagesworkshop für Mädchen von 10-12 Jahren und der Vortrag
  „Wenn Mädchen Frauen werden“ für die Eltern und andere
  interessierte Personen.\n\nPositiver Start in die Pubertät\nWie Mädchen
  ihren eigenen Körper erleben und bewerten\, hat grossen Einfluss auf ihr
  Selbstwertgefühl. Sich als Frau oder Mann zu bejahen und die
  körperlichen Veränderungen positiv zu erleben sind wichtige
  Entwicklungsschritte. \nIn diesem Workshop werden die Zusammenhänge und
  biologischen Begriffe nachvollziehbar erklärt. Die Mädchen erleben in
  dieser Zyklusshow\, was in ihrem Körper während der Pubertät vor sich
  geht. Sie erfahren viel rund um den weiblichen Zyklus.\n\nAm
  Elternvortrag werden Sie über das Projekt MFM informiert und erhalten
  einen umfassenden Einblick auf den weiblichen Zyklus.\n\nAm Workshoptag
  sind in der letzten halben Stunde die weiblichen Personen der Familie
  herzlich willkommen.\n\nKontakt: sekretariat.kerzers@refkirche-kerzers.ch
 \n\nWeitere Infos: https://www.kirchenregion-laupen.ch/veranstaltung/38395
SUMMARY:MFM Zyklus-Show für Mädchen von 10-12 Jahren ohne Zertifikat
PRIORITY:5
X-MICROSOFT-CDO-IMPORTANCE:1
CLASS:PUBLIC
END:VEVENT
END:VCALENDAR
