BEGIN:VCALENDAR
PRODID:-//kirchenweb.ch gmbh//veranstaltungsausgabe v2.0//DE
VERSION:2.0
METHOD:PUBLISH
BEGIN:VEVENT
DTSTART:20211225T150000Z
DTEND:20211225T225900Z
LOCATION:im Pfarrhaus\, Herresrain 5\, 3210 Kerzers
TRANSP:OPAQUE
SEQUENCE:0
UID:39576-veranstaltung@kirchenregion-laupen.ch
DTSTAMP:20221111T152520Z
DESCRIPTION:Wir möchten den an Weihnachten geplanten Anlass im Pfarrhaus
  durchführen\, entspricht er einem Bedürfnis für viele Personen unserer
  Kirchgemeinde.\nOrganisatorische Überlegungen und die heute geltenden
  COVID-Massnahmen bedingen aber eine Anpassung. Wir sehen eine 2-Teilung
  des Anlasses vor:\n\n1.	Teil\nAnstossen auf Weihnachten im Pfarrhof ab 16
  Uhr bis etwa 20 Uhr. Alle sind herzlich eingeladen\, ob für eine kurze
  oder längere Zeit. Keine Zertifikatspflicht\, aber Abstände einhalten.
 \n\n2.	Teil\nEinfaches Essen im Pfarrhaus ab ungefähr 20 Uhr. Wir müssen
  die Teilnehmerzahl beschränken und bitten deshalb um Anmeldung (im
  Sekretariat Tel. 031 755 55 50\, bei Pfarrer Urfer Tel. 079 901 55 05
  oder beim Präsidenten Tel. 079 475 42 42. 2G-Covid-Zertifikat
  obligatorisch.\n\nWir freuen uns auf die Begegnungen mit Ihnen und
  wünschen frohe und friedliche Weihnachten.\n\nDer Kirchgemeinderat und
  das Pfarrteam\n\nPfarrer Stephan Urfer\, Kirchgässli 2\, 3210 Kerzers\,
  stephan.urfer@refkirche-kerzers.ch\, 079 901 55 05 \n\nKontakt:
  sekretariat.kerzers@refkirche-kerzers.ch\n\nWeitere Infos:
  https://www.kirchenregion-laupen.ch/veranstaltung/39576
SUMMARY:Offenes Pfarrhaus an Weihnachten
PRIORITY:5
X-MICROSOFT-CDO-IMPORTANCE:1
CLASS:PUBLIC
END:VEVENT
END:VCALENDAR
