BEGIN:VCALENDAR
PRODID:-//kirchenweb.ch gmbh//veranstaltungsausgabe v2.0//DE
VERSION:2.0
METHOD:PUBLISH
BEGIN:VEVENT
DTSTART:20260426T073000Z
DTEND:20260426T083000Z
LOCATION:in der Kirche\, Kirchgässli 1 \, 3210 Kerzers
TRANSP:OPAQUE
SEQUENCE:0
UID:55052-veranstaltung@kirchenregion-laupen.ch
DTSTAMP:20251209T134831Z
DESCRIPTION:Kontakt: Pfarrerin Barbara Streit\, Kirchgässli 2\, 3210
  Kerzers\, barbara.streit@refkirche-kerzers.ch\, 079 865 43 35\n\nWeitere
  Infos: https://www.kirchenregion-laupen.ch/veranstaltung/55052
SUMMARY:Gottesdienst
PRIORITY:5
X-MICROSOFT-CDO-IMPORTANCE:1
CLASS:PUBLIC
END:VEVENT
END:VCALENDAR
