BEGIN:VCALENDAR
PRODID:-//kirchenweb.ch gmbh//veranstaltungsausgabe v2.0//DE
VERSION:2.0
METHOD:PUBLISH
BEGIN:VEVENT
DTSTART:20260510T073000Z
DTEND:20260510T083000Z
LOCATION:in der Kirche\, Kirchgässli 1 \, 3210 Kerzers
TRANSP:OPAQUE
SEQUENCE:0
UID:55053-veranstaltung@kirchenregion-laupen.ch
DTSTAMP:20251209T134850Z
DESCRIPTION:Kontakt: Pfarrerin Susanne Gloor\, Kirchgässli 2\, 3210
  Kerzers\, susanne.gloor@refkirche-kerzers.ch\, 076 831 04 30 \n\nWeitere
  Infos: https://www.kirchenregion-laupen.ch/veranstaltung/55053
SUMMARY:Gottesdienst
PRIORITY:5
X-MICROSOFT-CDO-IMPORTANCE:1
CLASS:PUBLIC
END:VEVENT
END:VCALENDAR
