BEGIN:VCALENDAR
PRODID:-//kirchenweb.ch gmbh//veranstaltungsausgabe v2.0//DE
VERSION:2.0
METHOD:PUBLISH
BEGIN:VEVENT
DTSTART:20260531T073000Z
DTEND:20260531T083000Z
LOCATION:in der Kirche\, Kirchgässli 1 \, 3210 Kerzers
TRANSP:OPAQUE
SEQUENCE:0
UID:55054-veranstaltung@kirchenregion-laupen.ch
DTSTAMP:20260203T125936Z
DESCRIPTION:Kontakt: Pfarrerin Susanne Gloor\, Kirchgässli 2\, 3210
  Kerzers\, susanne.gloor@refkirche-kerzers.ch\, 076 831 04 30 \n\nWeitere
  Infos: https://www.kirchenregion-laupen.ch/veranstaltung/55054
SUMMARY:Gottesdienst
PRIORITY:5
X-MICROSOFT-CDO-IMPORTANCE:1
CLASS:PUBLIC
END:VEVENT
END:VCALENDAR
