BEGIN:VCALENDAR
PRODID:-//kirchenweb.ch gmbh//veranstaltungsausgabe v2.0//DE
VERSION:2.0
METHOD:PUBLISH
BEGIN:VEVENT
DTSTART:20260823T073000Z
DTEND:20260823T083000Z
LOCATION:in der Kirche\, Kirchgässli 1 \, 3210 Kerzers
TRANSP:OPAQUE
SEQUENCE:0
UID:55060-veranstaltung@kirchenregion-laupen.ch
DTSTAMP:20251209T072036Z
DESCRIPTION:Kontakt: Pfarrer Stephan Urfer\, Kirchgässli 2\, 3210
  Kerzers\, stephan.urfer@refkirche-kerzers.ch\, 079 901 55 05 \n\nWeitere
  Infos: https://www.kirchenregion-laupen.ch/veranstaltung/55060
SUMMARY:Segnungsgottesdienst zum Schulanfang in Kerzers
PRIORITY:5
X-MICROSOFT-CDO-IMPORTANCE:1
CLASS:PUBLIC
END:VEVENT
END:VCALENDAR
