BEGIN:VCALENDAR
PRODID:-//kirchenweb.ch gmbh//veranstaltungsausgabe v2.0//DE
VERSION:2.0
METHOD:PUBLISH
BEGIN:VEVENT
DTSTART:20260503T080000Z
DTEND:20260503T090000Z
LOCATION:EGW Kerzers\, Kreuzgasse 8\, 3210 Kerzers
TRANSP:OPAQUE
SEQUENCE:0
UID:55077-veranstaltung@kirchenregion-laupen.ch
DTSTAMP:20250917T151933Z
DESCRIPTION:Die Ref. Kirche und das EGW feiern gemeinsam einen
  Gottesdienst im EGW Kerzers\, Kreuzgasse 8. Mit Kinds-Träff (=
  Sonntagsschule) und Kinderhüeti. Anschliessend findet ein Bring- und
  Teil-Apéro statt.\n\nKontakt: Pfarrer Stephan Urfer\, Kirchgässli 2\,
  3210 Kerzers\, stephan.urfer@refkirche-kerzers.ch\, 079 901 55 05 \nRolf
  Bolliger; (031 755 44 31) Pfarrer EGW Kerzers\, Kreuzgasse 8\, 3210
  Kerzers \n\nWeitere Infos:
  https://www.kirchenregion-laupen.ch/veranstaltung/55077
SUMMARY:Gottesdienst im EGW
PRIORITY:5
X-MICROSOFT-CDO-IMPORTANCE:1
CLASS:PUBLIC
END:VEVENT
END:VCALENDAR
