BEGIN:VCALENDAR
PRODID:-//kirchenweb.ch gmbh//veranstaltungsausgabe v2.0//DE
VERSION:2.0
METHOD:PUBLISH
BEGIN:VEVENT
DTSTART:20260517T073000Z
DTEND:20260517T083000Z
LOCATION:in der Kirche\, Kirchgässli 1 \, 3210 Kerzers
TRANSP:OPAQUE
SEQUENCE:0
UID:55079-veranstaltung@kirchenregion-laupen.ch
DTSTAMP:20260331T075302Z
DESCRIPTION:Kontakt: Katechetinnen\n\nWeitere Infos:
  https://www.kirchenregion-laupen.ch/veranstaltung/55079
SUMMARY:Konfirmationsgottesdienst
PRIORITY:5
X-MICROSOFT-CDO-IMPORTANCE:1
CLASS:PUBLIC
END:VEVENT
END:VCALENDAR
