BEGIN:VCALENDAR
PRODID:-//kirchenweb.ch gmbh//veranstaltungsausgabe v2.0//DE
VERSION:2.0
METHOD:PUBLISH
BEGIN:VEVENT
DTSTART:20260809T080000Z
DTEND:20260809T090000Z
LOCATION:auf dem Schulhausplatz in Golaten\, \, 3207 Golaten
TRANSP:OPAQUE
SEQUENCE:0
UID:55084-veranstaltung@kirchenregion-laupen.ch
DTSTAMP:20251209T135512Z
DESCRIPTION:Gemeinsam wollen wir über das neue Schuljahr nachdenken und
  dafür beten.\nBei schlechtem Wetter im Mehrzweckraum.\nIm Anschluss
  gemütlicher Ausklang: Es gibt für alle etwas vom Grill (auch
  vegetarisch)\, mit Spiel und Spass. \n\nKontakt: Pfarrerin Susanne
  Gloor\, Kirchgässli 2\, 3210 Kerzers\,
  susanne.gloor@refkirche-kerzers.ch\, 076 831 04 30 \n\nWeitere Infos:
  https://www.kirchenregion-laupen.ch/veranstaltung/55084
SUMMARY:Segnungsgottesdienst zum Schulanfang der Berner Dörfer in Golaten
PRIORITY:5
X-MICROSOFT-CDO-IMPORTANCE:1
CLASS:PUBLIC
END:VEVENT
END:VCALENDAR
