BEGIN:VCALENDAR
PRODID:-//kirchenweb.ch gmbh//veranstaltungsausgabe v2.0//DE
VERSION:2.0
METHOD:PUBLISH
BEGIN:VEVENT
DTSTART:20260911T133000Z
DTEND:20260911T143000Z
LOCATION:Alters- und Pflegeheim Kerzers\, Schulhausstrasse 16\, 3210
  Kerzers
TRANSP:OPAQUE
SEQUENCE:0
UID:55575-veranstaltung@kirchenregion-laupen.ch
DTSTAMP:20251009T084910Z
DESCRIPTION:Mit Elisabeth Inaebnit am Klavier und freiwillig Helfende.
 \nExterne Interessierte sind herzlich eingeladen teilzunehmen.\n\nKontakt:
  Elisabeth Inaebnit (Organistin; 031 755 62 54)\n\nWeitere Infos:
  https://www.kirchenregion-laupen.ch/veranstaltung/55575
SUMMARY:Singen im Altersheim
PRIORITY:5
X-MICROSOFT-CDO-IMPORTANCE:1
CLASS:PUBLIC
END:VEVENT
END:VCALENDAR
