BEGIN:VCALENDAR
PRODID:-//kirchenweb.ch gmbh//veranstaltungsausgabe v2.0//DE
VERSION:2.0
METHOD:PUBLISH
BEGIN:VEVENT
DTSTART:20260524T150000Z
DTEND:20260524T160000Z
LOCATION:in der Kirche\, Kirchgässli 1 \, 3210 Kerzers
TRANSP:OPAQUE
SEQUENCE:0
UID:55628-veranstaltung@kirchenregion-laupen.ch
DTSTAMP:20260324T080917Z
DESCRIPTION:Es singt Stephan Urfer\nJonas Käser musiziert auf der Harfe
 \nRegula Schwab spielt Violine\nElisabeth Inaebnit spielt Orgel\nMonika
  Schwab malt Bilder\n\nEintritt frei\, Kollekte\n\nKontakt: Elisabeth
  Inaebnit (Organistin; 031 755 62 54)\n\nWeitere Infos:
  https://www.kirchenregion-laupen.ch/veranstaltung/55628
SUMMARY:Konzert "Die Psalmen Davids"
PRIORITY:5
X-MICROSOFT-CDO-IMPORTANCE:1
CLASS:PUBLIC
END:VEVENT
END:VCALENDAR
