BEGIN:VCALENDAR
PRODID:-//kirchenweb.ch gmbh//veranstaltungsausgabe v2.0//DE
VERSION:2.0
METHOD:PUBLISH
BEGIN:VEVENT
DTSTART:20260608T070000Z
DTEND:20260608T090000Z
LOCATION:im Kirchgemeindehaus \, Kirchgässli 2\, 3210 Kerzers
TRANSP:OPAQUE
SEQUENCE:0
UID:55868-veranstaltung@kirchenregion-laupen.ch
DTSTAMP:20251104T103940Z
DESCRIPTION:Unsere Kinder sind zwischen 0 und 4 Jahre alt. Sie haben die
  Möglichkeit\, miteinander zu spielen und Freunde zu finden.\n\nBeim
  gemeinsamen Spielen und Znüniessen\, werden unter den Eltern oder
  Grosseltern neue Kontakte geknüpft. \n\nAnmeldung bitte bei Aline
  Daeppen\, Jasmin Hadorn oder Eva Jotti \n Co-Leiterin Krabbelgruppe Aline
  Daeppen\, aline.daeppen@refkirche-kerzers.ch\, 079 224 17 36 oder\n
  Co-Leiterin Krabbelgruppe Jasmin Hadorn\,
  jasmin.hadorn@refkirche-kerzers.ch\, 079 254 83 99\n Co-Leiterin
  Krabbelgruppe Eva Jotti\, eva.jotti@refkirche-kerzers.ch\, 079 285 85 05
 \nKurzfristige Details werden per WhatsApp Chat abgemacht. \n\nNächste
  Daten:\n\nKontakt: sekretariat.kerzers@refkirche-kerzers.ch\n\nWeitere
  Infos: https://www.kirchenregion-laupen.ch/veranstaltung/55868
SUMMARY:Krabbelgruppe Kerzers
PRIORITY:5
X-MICROSOFT-CDO-IMPORTANCE:1
CLASS:PUBLIC
END:VEVENT
END:VCALENDAR
