BEGIN:VCALENDAR
PRODID:-//kirchenweb.ch gmbh//veranstaltungsausgabe v2.0//DE
VERSION:2.0
METHOD:PUBLISH
BEGIN:VEVENT
DTSTART:20260422T173000Z
DTEND:20260422T190000Z
LOCATION:in der Kirche\, Kirchgässli 1\, 3210 Kerzers
TRANSP:OPAQUE
SEQUENCE:0
UID:56012-veranstaltung@kirchenregion-laupen.ch
DTSTAMP:20260303T083258Z
DESCRIPTION:Wir singen und üben Lieder\, die regelmässig in den
  Gottesdiensten und Feiern der Kirchgemeinde Kerzers erklingen\, als
  Impuls\, damit alle freudig mitsingen können.\nWir tauchen nach
  Liedperlen und öffnen musikalische Schatzkisten\, vom Kanon bis zum
  mehrstimmigen Choral.\nFür Jung und Alt - Ungeübte und Geübte.\n\nAlle
  sind herzlich willkommen!\n\nLeitung: \nDoris Stähli\, Organistin und
  Chorleiterin\n\n\n\n\nKontakt: Doris Stähli (079 641 42 50)\n\nWeitere
  Infos: https://www.kirchenregion-laupen.ch/veranstaltung/56012
SUMMARY:SingPuls Singen in der Kirche
PRIORITY:5
X-MICROSOFT-CDO-IMPORTANCE:1
CLASS:PUBLIC
END:VEVENT
END:VCALENDAR
