BEGIN:VCALENDAR
PRODID:-//kirchenweb.ch gmbh//veranstaltungsausgabe v2.0//DE
VERSION:2.0
METHOD:PUBLISH
BEGIN:VEVENT
DTSTART:20260513T180000Z
DTEND:20260513T200000Z
LOCATION:im Saal des Kirchgemeindehauses\, Kirchgässli 2\, 3210 Kerzers
TRANSP:OPAQUE
SEQUENCE:0
UID:56049-veranstaltung@kirchenregion-laupen.ch
DTSTAMP:20260402T074731Z
DESCRIPTION:Im Anschluss gemütliches Beisammensein.\n\nStimmrecht /
  Wahlrecht\nFür freiburgisch Kerzers\nEin Mitglied ist stimmberechtigt\,
  wenn es seit mindestens 30 Tagen seinen zivilrechtlichen Wohnsitz in
  einer Gemeinde der Evangelisch-reformierten Kirche des Kantons Freiburg
  hat. Es hat das Stimm- und das aktive Wahlrecht vom vollendeten 16.
  Altersjahr an\, das passive Wahlrecht nach Erreichen der
  staatsbürgerlichen Volljährigkeit.\n\nFür bernisch Kerzers\nAntrags-
  und Stimmberechtigt sind alle seit drei Monaten wohnhaften Personen die
  das\n18. Altersjahr zurückgelegt haben und der Evangelisch-reformierten
  Landeskirche angehören.\n\nKontakt: Erich Hirt\n\nWeitere Infos:
  https://www.kirchenregion-laupen.ch/veranstaltung/56049
SUMMARY:Ordentliche Kirchgemeindeversammlung bernisch und freiburgisch
  Kerzers
PRIORITY:5
X-MICROSOFT-CDO-IMPORTANCE:1
CLASS:PUBLIC
END:VEVENT
END:VCALENDAR
