BEGIN:VCALENDAR
PRODID:-//kirchenweb.ch gmbh//veranstaltungsausgabe v2.0//DE
VERSION:2.0
METHOD:PUBLISH
BEGIN:VEVENT
DTSTART:20261125T143000Z
DTEND:20261125T163000Z
LOCATION:im Pfarrhaus\, Herresrain 5\, 3210 Kerzers
TRANSP:OPAQUE
SEQUENCE:0
UID:56245-veranstaltung@kirchenregion-laupen.ch
DTSTAMP:20251104T125103Z
DESCRIPTION:Mit dem Schmerz nicht allein bleiben\nDas Trauercafé ist ein
  Angebot für Sie\, wenn Sie einen Angehörigen verloren haben. Es spielt
  keine Rolle\, wie lang der Verlust her ist. \nIn der Trauer nicht alleine
  bleiben\, sich mit anderen Trauernden treffen\, Kontakte untereinander
  pflegen\, sich austauschen\, miteinander reden\, schweigen\, zuhören und
  Unbegreifliches in Worte fassen - dazu möchte wir Ihnen bei Kaffee oder
  Tee Raum und Zeit geben.\n\nDie Teilnahme ist unverbindlich und
  kostenfrei\nEine Anmeldung ist nicht erforderlich.\n\nKontakt: Pfarrer
  Stephan Urfer\, Kirchgässli 2\, 3210 Kerzers\,
  stephan.urfer@refkirche-kerzers.ch\, 079 901 55 05 \n\nWeitere Infos:
  https://www.kirchenregion-laupen.ch/veranstaltung/56245
SUMMARY:Trauercafé
PRIORITY:5
X-MICROSOFT-CDO-IMPORTANCE:1
CLASS:PUBLIC
END:VEVENT
END:VCALENDAR
