BEGIN:VCALENDAR
PRODID:-//kirchenweb.ch gmbh//veranstaltungsausgabe v2.0//DE
VERSION:2.0
METHOD:PUBLISH
BEGIN:VEVENT
DTSTART:20261119T173000Z
DTEND:20261119T184500Z
LOCATION:im Saal des Kirchgemeindehauses\, Kirchgässli 2\, 3210 Kerzers
TRANSP:OPAQUE
SEQUENCE:0
UID:56277-veranstaltung@kirchenregion-laupen.ch
DTSTAMP:20251104T125651Z
DESCRIPTION:Streetdance Gruppen für Girls von 8 bis 11 Jahren.\n\nEinmal
  wöchentlich trifft man sich zum Tanztraining.\nDazu gehört auch ein
  gemütlicher Teil mit Plaudern und Snacks.\n\nMitnehmen:\nbequeme
  Turnkleidung\, Tanz-/Turnschuhe\, Trinkflasche\nKosten: 5.- Fr.  pro Mal
 \n\nKursleitung: Sabrina Schwab und Team\n\nDie Roundabout Tanzstunden
  richten sich nach dem Ferienplan der Schulen in Kerzers.\n\nRoundabout
  steht unter der Trägerschaft des Blauen Kreuzes.\n\nWeitere Infos unter
  http://www.roundabout-network.org\n\nNächste Termine:\n\n\nKontakt:
  Anmeldung bei: Leiterin Roundabout Kids Sabrina Schwab\,
  sabrina.schwab@refkirche-kerzers.ch\, 079 621 99 30\n\nWeitere Infos:
  https://www.kirchenregion-laupen.ch/veranstaltung/56277
SUMMARY:Roundabout Kids für Girls
PRIORITY:5
X-MICROSOFT-CDO-IMPORTANCE:1
CLASS:PUBLIC
END:VEVENT
END:VCALENDAR
