BEGIN:VCALENDAR
PRODID:-//kirchenweb.ch gmbh//veranstaltungsausgabe v2.0//DE
VERSION:2.0
METHOD:PUBLISH
BEGIN:VEVENT
DTSTART:20260703T160000Z
DTEND:20260703T190000Z
LOCATION:im Saal des Kirchgemeindehauses\, Kirchgässli 2\, 3210 Kerzers
TRANSP:OPAQUE
SEQUENCE:0
UID:56303-veranstaltung@kirchenregion-laupen.ch
DTSTAMP:20260127T092607Z
DESCRIPTION:ROUNDABOUT YOUTH - GIRLS ONLY - etwas für dich?\n\nGruppe 1
 \nFreitag von 17.30 - 19.00 Uhr mit der Tanzleiterin Eva und Natalie\n
 \nGruppe 2\nFreitag von 19.15 - 20.45 Uhr mit der Tanzleiterin Kamsa\n
 \nRoundabout ist ein Streetdance/HipHop-Netzwerk für junge Frauen
  zwischen 12 und 20 Jahren.\n\nWeitere Infos über Roundabout 
 \nhttp://www.roundabout-network.org\n\nEinmal wöchentlich trifft man sich
  zum Tanztraining.\nDazu gehört auch ein gemütlicher Teil mit Plaudern
  und Snacks.\n\nMitnehmen: \nbequeme Turnkleidung\, Tanz-/Turnschuhe\,
  Trinkflasche\nKosten: 5.- Fr. / Mal\n\nNächste Termine:\n\n\nKontakt:
  Anmeldung bei: Leiterin Roundabout Youth Eva Schmitz\, c/o KGH Kerzers \,
  3210  Kerzers\, eva.schmitz@refkirche-kerzers.ch\, 077 479 90 01
 \nLeiterin Roundabout Youth Natalie Eggli\, c/o KGH Kerzers  \, 3210
  Kerzers\, natalie.eggli@refkirche-kerzers.ch\, 078 716 77 78\n\nWeitere
  Infos: https://www.kirchenregion-laupen.ch/veranstaltung/56303
SUMMARY:Roundabout Youth für junge Frauen
PRIORITY:5
X-MICROSOFT-CDO-IMPORTANCE:1
CLASS:PUBLIC
END:VEVENT
END:VCALENDAR
