BEGIN:VCALENDAR
PRODID:-//kirchenweb.ch gmbh//veranstaltungsausgabe v2.0//DE
VERSION:2.0
METHOD:PUBLISH
BEGIN:VEVENT
DTSTART:20260501T180000Z
DTEND:20260501T190000Z
LOCATION:in der Kirche\, Kirchgässli 1\, 3210 Kerzers
TRANSP:OPAQUE
SEQUENCE:0
UID:56352-veranstaltung@kirchenregion-laupen.ch
DTSTAMP:20260212T082123Z
DESCRIPTION:Gebete\, Stille und Kerzen für den Frieden in der Welt.\n
 \nÖkumenisch\, in Zusammenarbeit mit der Kath. Pfarrei Murten und dem EGW
  Kerzers.\nMit Pfr. Stephan Urfer\, Elisabeth Inaebnit (Orgel) und Team\n
 \nAlle sind jeden Freitagabend herzlich eingeladen!\n\n\n\nKontakt:
  Pfarrer Stephan Urfer\, Kirchgässli 2\, 3210 Kerzers\,
  stephan.urfer@refkirche-kerzers.ch\, 079 901 55 05 \n\nWeitere Infos:
  https://www.kirchenregion-laupen.ch/veranstaltung/56352
SUMMARY:Friedensgebet-Abendfeier
PRIORITY:5
X-MICROSOFT-CDO-IMPORTANCE:1
CLASS:PUBLIC
END:VEVENT
END:VCALENDAR
