BEGIN:VCALENDAR
PRODID:-//kirchenweb.ch gmbh//veranstaltungsausgabe v2.0//DE
VERSION:2.0
METHOD:PUBLISH
BEGIN:VEVENT
DTSTART:20260529T180000Z
DTEND:20260529T190000Z
LOCATION:in der Kirche\, Kirchgässli 1\, 3210 Kerzers
TRANSP:OPAQUE
SEQUENCE:0
UID:56364-veranstaltung@kirchenregion-laupen.ch
DTSTAMP:20251125T141936Z
DESCRIPTION:Musik\, Gebete und Stille zum Wochenend-Einklang\n\nMit Pfr.
  Stephan Urfer\, Elisabeth Inaebnit (Orgel) und Team\n\nAlle sind jeden
  Freitagabend herzlich eingeladen!\n\n\n\nKontakt: Pfarrer Stephan Urfer\,
  Kirchgässli 2\, 3210 Kerzers\, stephan.urfer@refkirche-kerzers.ch\, 079
  901 55 05\n\nWeitere Infos:
  https://www.kirchenregion-laupen.ch/veranstaltung/56364
SUMMARY:Abendfeier mit Abendmahl
PRIORITY:5
X-MICROSOFT-CDO-IMPORTANCE:1
CLASS:PUBLIC
END:VEVENT
END:VCALENDAR
