BEGIN:VCALENDAR
PRODID:-//kirchenweb.ch gmbh//veranstaltungsausgabe v2.0//DE
VERSION:2.0
METHOD:PUBLISH
BEGIN:VEVENT
DTSTART:20260429T070000Z
DTEND:20260429T080000Z
LOCATION:Klaviermusik\, Kurzpredigt und Stille zur Wochenmitte mit Pfarrer
  Stephan Urfer.\, \,
TRANSP:OPAQUE
SEQUENCE:0
UID:56415-veranstaltung@kirchenregion-laupen.ch
DTSTAMP:20251106T130909Z
DESCRIPTION:Nach der Morgenfeier steht Pfarrer Stephan Urfer ab 10.00 Uhr
  im Chor der Kirche zur Verfügung. Für alle\, die ein kurzes Gespräch
  oder Gebet wünschen oder ein sonstiges Anliegen haben.\n\nEs ist auch
  möglich\, erst um 10.00 Uhr zu kommen.\n\n\nKontakt: Pfarrer Stephan
  Urfer\, Kirchgässli 2\, 3210 Kerzers\,
  stephan.urfer@refkirche-kerzers.ch\, 079 901 55 05 \n\nWeitere Infos:
  https://www.kirchenregion-laupen.ch/veranstaltung/56415
SUMMARY:Morgenfeier
PRIORITY:5
X-MICROSOFT-CDO-IMPORTANCE:1
CLASS:PUBLIC
END:VEVENT
END:VCALENDAR
