BEGIN:VCALENDAR
PRODID:-//kirchenweb.ch gmbh//veranstaltungsausgabe v2.0//DE
VERSION:2.0
METHOD:PUBLISH
BEGIN:VEVENT
DTSTART:20260620T070000Z
DTEND:20260620T090000Z
LOCATION:im Pfarrhaus\, Herresrain 5\, 3210 Kerzers
TRANSP:OPAQUE
SEQUENCE:0
UID:56465-veranstaltung@kirchenregion-laupen.ch
DTSTAMP:20251106T131406Z
DESCRIPTION:Jeden Samstag sind Sie eingeladen zwischen 9.00 und 11.00 Uhr
  im Pfarrhaus-Café\, zum gemütlichen Beisammensein\, Plaudern\,
  Zuhören\, Austauschen bei Kaffee\, Tee und Gebäck. \nAlle sind herzlich
  willkommen! \nEine Anmeldung ist nicht erforderlich. \n\nBegegnungsort:
  Pfarrhaus\, Herresrain 5\, Kerzers\nOrganisation und Durchführung:
  Freiwillige\n\nKontakt: KGR BE-Präsidium Heidi Forster\, Feld 22 G\,
  3207 Wileroltigen\, heidi.forster@refkirche-kerzers.ch\, 031 755 56 65\n
 \nWeitere Infos: https://www.kirchenregion-laupen.ch/veranstaltung/56465
SUMMARY:Pfarrhaus-Café
PRIORITY:5
X-MICROSOFT-CDO-IMPORTANCE:1
CLASS:PUBLIC
END:VEVENT
END:VCALENDAR
