BEGIN:VCALENDAR
PRODID:-//kirchenweb.ch gmbh//veranstaltungsausgabe v2.0//DE
VERSION:2.0
METHOD:PUBLISH
BEGIN:VEVENT
DTSTART:20260627T133000Z
DTEND:20260627T143000Z
LOCATION:im Alters- und Pflegeheim\, Schulhausstr. 16\, 3210 Kerzers
TRANSP:OPAQUE
SEQUENCE:0
UID:56656-veranstaltung@kirchenregion-laupen.ch
DTSTAMP:20260127T132111Z
DESCRIPTION:Herzlich eingeladen sind alle Bewohnerinnen und Bewohner\,
  sowie Familien und Gäste.\n\n\nKontakt: Rita Pürro Spengler\,
  Pastoralassistentin Kath. Pfarrei Murten\, 026 672 90 23\n\nWeitere
  Infos: https://www.kirchenregion-laupen.ch/veranstaltung/56656
SUMMARY:Gottesdienst im Altersheim
PRIORITY:5
X-MICROSOFT-CDO-IMPORTANCE:1
CLASS:PUBLIC
END:VEVENT
END:VCALENDAR
