BEGIN:VCALENDAR
PRODID:-//kirchenweb.ch gmbh//veranstaltungsausgabe v2.0//DE
VERSION:2.0
METHOD:PUBLISH
BEGIN:VEVENT
DTSTART:20260926T133000Z
DTEND:20260926T143000Z
LOCATION:im Alters- und Pflegeheim\, Schulhausstr. 16\, 3210 Kerzers
TRANSP:OPAQUE
SEQUENCE:0
UID:56659-veranstaltung@kirchenregion-laupen.ch
DTSTAMP:20251118T123355Z
DESCRIPTION:Herzlich eingeladen sind alle Bewohnerinnen und Bewohner\,
  sowie Familien und Gäste.\n\n\nKontakt: Pfarrer Stephan Urfer\,
  Kirchgässli 2\, 3210 Kerzers\, stephan.urfer@refkirche-kerzers.ch\, 079
  901 55 05 \n\nWeitere Infos:
  https://www.kirchenregion-laupen.ch/veranstaltung/56659
SUMMARY:Gottesdienst im Altersheim
PRIORITY:5
X-MICROSOFT-CDO-IMPORTANCE:1
CLASS:PUBLIC
END:VEVENT
END:VCALENDAR
