BEGIN:VCALENDAR
PRODID:-//kirchenweb.ch gmbh//veranstaltungsausgabe v2.0//DE
VERSION:2.0
METHOD:PUBLISH
BEGIN:VEVENT
DTSTART:20260811T124500Z
DTEND:20260811T134500Z
LOCATION:im Alters- und Pflegeheim\, Schulhausstr. 16\, 3210 Kerzers
TRANSP:OPAQUE
SEQUENCE:0
UID:57482-veranstaltung@kirchenregion-laupen.ch
DTSTAMP:20260106T110715Z
DESCRIPTION:Wer darf kommen?\nAlle Interessierten\, die gerne
  zusammenspielen möchten\, sind herzlich eingeladen.\n\nWer hilft?
 \nBrauchen Sie Unterstützung beim Spielen? \n\nDaran haben wir gedacht: 
 \nEs werden Sie freiwillig Helfende der Kirchgemeinde und Mitarbeitende
  des Altersheims unterstützen.\n\n\nKontakt: KGR BE-Präsidium Heidi
  Forster\, Feld 22 G\, 3207 Wileroltigen\,
  heidi.forster@refkirche-kerzers.ch\, 031 755 56 65\n\nWeitere Infos:
  https://www.kirchenregion-laupen.ch/veranstaltung/57482
SUMMARY:Spielnachmittag
PRIORITY:5
X-MICROSOFT-CDO-IMPORTANCE:1
CLASS:PUBLIC
END:VEVENT
END:VCALENDAR
