BEGIN:VCALENDAR
PRODID:-//kirchenweb.ch gmbh//veranstaltungsausgabe v2.0//DE
VERSION:2.0
METHOD:PUBLISH
BEGIN:VEVENT
DTSTART:20261111T131500Z
DTEND:20261111T160000Z
LOCATION:im Kirchgemeindehaus\, Kirchgässli 2\, 3210 Kerzers
TRANSP:OPAQUE
SEQUENCE:0
UID:58430-veranstaltung@kirchenregion-laupen.ch
DTSTAMP:20260331T092013Z
DESCRIPTION:Programm und Zvieri: Gemeinnütziger Frauenverein\n\n
 \nKontakt: Heidi Forster (Vize Präsidentin BE 078 924 95 19; Ressort
  Gottesdienste und Musik)\n\nWeitere Infos:
  https://www.kirchenregion-laupen.ch/veranstaltung/58430
SUMMARY:Seniorennachmittag
PRIORITY:5
X-MICROSOFT-CDO-IMPORTANCE:1
CLASS:PUBLIC
END:VEVENT
END:VCALENDAR
