BEGIN:VCALENDAR
PRODID:-//kirchenweb.ch gmbh//veranstaltungsausgabe v2.0//DE
VERSION:2.0
METHOD:PUBLISH
BEGIN:VEVENT
DTSTART:20261219T160000Z
DTEND:20261219T170000Z
LOCATION:in der Kirche\, Kirchgässli 1\, 3210 Kerzers
TRANSP:OPAQUE
SEQUENCE:0
UID:58556-veranstaltung@kirchenregion-laupen.ch
DTSTAMP:20260413T081319Z
DESCRIPTION:Kontakt: Doris Stähli (Organistin; 079 641 42 50)\n\nWeitere
  Infos: https://www.kirchenregion-laupen.ch/veranstaltung/58556
SUMMARY:Offenes Singen
PRIORITY:5
X-MICROSOFT-CDO-IMPORTANCE:1
CLASS:PUBLIC
END:VEVENT
END:VCALENDAR
